BEGIN:VCALENDAR
VERSION:2.0
PRODID:-//Rains County Safety Coalition - ECPv6.15.17.1//NONSGML v1.0//EN
CALSCALE:GREGORIAN
METHOD:PUBLISH
X-ORIGINAL-URL:https://rainscountysafetycoalition.org
X-WR-CALDESC:Events for Rains County Safety Coalition
REFRESH-INTERVAL;VALUE=DURATION:PT1H
X-Robots-Tag:noindex
X-PUBLISHED-TTL:PT1H
BEGIN:VTIMEZONE
TZID:America/Chicago
BEGIN:DAYLIGHT
TZOFFSETFROM:-0600
TZOFFSETTO:-0500
TZNAME:CDT
DTSTART:20250309T080000
END:DAYLIGHT
BEGIN:STANDARD
TZOFFSETFROM:-0500
TZOFFSETTO:-0600
TZNAME:CST
DTSTART:20251102T070000
END:STANDARD
BEGIN:DAYLIGHT
TZOFFSETFROM:-0600
TZOFFSETTO:-0500
TZNAME:CDT
DTSTART:20260308T080000
END:DAYLIGHT
BEGIN:STANDARD
TZOFFSETFROM:-0500
TZOFFSETTO:-0600
TZNAME:CST
DTSTART:20261101T070000
END:STANDARD
BEGIN:DAYLIGHT
TZOFFSETFROM:-0600
TZOFFSETTO:-0500
TZNAME:CDT
DTSTART:20270314T080000
END:DAYLIGHT
BEGIN:STANDARD
TZOFFSETFROM:-0500
TZOFFSETTO:-0600
TZNAME:CST
DTSTART:20271107T070000
END:STANDARD
END:VTIMEZONE
BEGIN:VEVENT
DTSTART;TZID=America/Chicago:20260306T140000
DTEND;TZID=America/Chicago:20260306T160000
DTSTAMP:20260419T133107
CREATED:20260301T080620Z
LAST-MODIFIED:20260301T080839Z
UID:2696-1772805600-1772812800@rainscountysafetycoalition.org
SUMMARY:Rains County Public Forum
DESCRIPTION:Rains County is holding 2 public forums on Battery Storage Systems (B.E.S.S.) and Solar Farms.  \nMake Your Voices Heard! \nAttend to share your concerns and opinions on Battery Storage and Solar Farm projects planned for Rains County. \nALL CITIZENS ARE ENCOURAGED TO ATTEND!!
URL:https://rainscountysafetycoalition.org/event/rains-county-public-forum/
LOCATION:Rains County Courthouse\, 167 Quitman\, Emory\, 75440\, United States
CATEGORIES:Public Forums
ATTACH;FMTTYPE=image/jpeg:https://rainscountysafetycoalition.org/wp-content/uploads/2026/02/Rains-County-Public-Forum.jpeg
END:VEVENT
BEGIN:VEVENT
DTSTART;TZID=America/Chicago:20260310T180000
DTEND;TZID=America/Chicago:20260310T200000
DTSTAMP:20260419T133107
CREATED:20260301T081236Z
LAST-MODIFIED:20260307T163452Z
UID:2700-1773165600-1773172800@rainscountysafetycoalition.org
SUMMARY:Rains County Public Forum
DESCRIPTION:Rains County is holding 2 public forums on Battery Storage Systems (B.E.S.S.) and Solar Farms.  \nMake Your Voices Heard! \nAttend to share your concerns and opinions on Battery Storage and Solar Farm projects planned for Rains County. \nALL CITIZENS ARE ENCOURAGED TO ATTEND!!
URL:https://rainscountysafetycoalition.org/event/rains-county-public-forum-2/
LOCATION:Rains County Courthouse\, 167 Quitman\, Emory\, 75440\, United States
CATEGORIES:Public Forums
ATTACH;FMTTYPE=image/jpeg:https://rainscountysafetycoalition.org/wp-content/uploads/2026/03/Public-Hearings.jpeg
END:VEVENT
BEGIN:VEVENT
DTSTART;TZID=America/Chicago:20260312T100000
DTEND;TZID=America/Chicago:20260312T120000
DTSTAMP:20260419T133107
CREATED:20260307T163630Z
LAST-MODIFIED:20260309T195720Z
UID:2786-1773309600-1773316800@rainscountysafetycoalition.org
SUMMARY:Rains County Public Forum
DESCRIPTION:Rains County is holding 2 public forums on Battery Storage Systems (B.E.S.S.) and Solar Farms.  \nMake Your Voices Heard! \nAttend to share your concerns and opinions on Battery Storage and Solar Farm projects planned for Rains County. \nALL CITIZENS ARE ENCOURAGED TO ATTEND!!
URL:https://rainscountysafetycoalition.org/event/rains-county-public-forum-3/
LOCATION:Rains County Courthouse\, 167 Quitman\, Emory\, 75440\, United States
CATEGORIES:Public Forums
ATTACH;FMTTYPE=image/jpeg:https://rainscountysafetycoalition.org/wp-content/uploads/2026/03/Public-Hearings.jpeg
END:VEVENT
BEGIN:VEVENT
DTSTART;TZID=America/Chicago:20260502T090000
DTEND;TZID=America/Chicago:20260502T200000
DTSTAMP:20260419T133107
CREATED:20260410T023810Z
LAST-MODIFIED:20260410T024340Z
UID:3019-1777712400-1777752000@rainscountysafetycoalition.org
SUMMARY:Rains County Founders Day Festival and Concert
DESCRIPTION:Please join Rains County Safety Coalition for a great day celebrating Emory at the Rains County Founders Day Festival and Concert!  There will be so many activities throughout the day. Vendors\, Food Trucks\, 5k\, performances\, DJ Calvin\, Dress up contest\, face painting…. so many family friendly things!  The end the night with a great concert featuring 2 great Texas Artists: Casey Donahew with the opener Don Louis.  You will not want to miss this show! \nDon’t forget to stop by the Rains County Safety Coalition booth too get the latest updates on Solar Farms and Battery Energy Storage Systems in Rains County. \n  \nFestival: 9:00am -2:00pm \nConcert: 6:00pm -11:00pm \n 
URL:https://rainscountysafetycoalition.org/event/rains-county-founders-day-festival/
LOCATION:Sandy Creek Park\, Emory\, TX\, 75440\, United States
CATEGORIES:Community Event
ATTACH;FMTTYPE=image/png:https://rainscountysafetycoalition.org/wp-content/uploads/2026/04/Founders-Day-Concert.png
END:VEVENT
END:VCALENDAR